BEGIN:VCALENDAR
VERSION:2.0
PRODID:-//Children&#039;s Home Society of California - ECPv6.15.20//NONSGML v1.0//EN
CALSCALE:GREGORIAN
METHOD:PUBLISH
X-ORIGINAL-URL:https://chs-ca.org
X-WR-CALDESC:Events for Children&#039;s Home Society of California
REFRESH-INTERVAL;VALUE=DURATION:PT1H
X-Robots-Tag:noindex
X-PUBLISHED-TTL:PT1H
BEGIN:VTIMEZONE
TZID:America/Los_Angeles
BEGIN:DAYLIGHT
TZOFFSETFROM:-0800
TZOFFSETTO:-0700
TZNAME:PDT
DTSTART:20250309T100000
END:DAYLIGHT
BEGIN:STANDARD
TZOFFSETFROM:-0700
TZOFFSETTO:-0800
TZNAME:PST
DTSTART:20251102T090000
END:STANDARD
BEGIN:DAYLIGHT
TZOFFSETFROM:-0800
TZOFFSETTO:-0700
TZNAME:PDT
DTSTART:20260308T100000
END:DAYLIGHT
BEGIN:STANDARD
TZOFFSETFROM:-0700
TZOFFSETTO:-0800
TZNAME:PST
DTSTART:20261101T090000
END:STANDARD
BEGIN:DAYLIGHT
TZOFFSETFROM:-0800
TZOFFSETTO:-0700
TZNAME:PDT
DTSTART:20270314T100000
END:DAYLIGHT
BEGIN:STANDARD
TZOFFSETFROM:-0700
TZOFFSETTO:-0800
TZNAME:PST
DTSTART:20271107T090000
END:STANDARD
END:VTIMEZONE
BEGIN:VEVENT
DTSTART;TZID=America/Los_Angeles:20260422T180000
DTEND;TZID=America/Los_Angeles:20260422T200000
DTSTAMP:20260422T112515
CREATED:20260317T172225Z
LAST-MODIFIED:20260421T224453Z
UID:10001147-1776880800-1776888000@chs-ca.org
SUMMARY:Introducción a la serie sobre cuidado informado sobre el trauma
DESCRIPTION:Los proveedores de cuidado infantil están invitados a participar en este taller gratuito presentado por el Programa Bridge.
URL:https://chs-ca.org/workshop/introduccion-a-la-serie-sobre-cuidado-informado-sobre-el-trauma-4/
LOCATION:CA
CATEGORIES:Orange,Providers,Woodland,Workshops,Yuba City
ATTACH;FMTTYPE=image/png:https://chs-ca.org/wp-content/uploads/2026/03/714e68c0906f266c42ade1ad345c9d75-s0b8Ti.tmp_.png
END:VEVENT
BEGIN:VEVENT
DTSTART;TZID=America/Los_Angeles:20260428T183000
DTEND;TZID=America/Los_Angeles:20260428T203000
DTSTAMP:20260422T112515
CREATED:20260113T192555Z
LAST-MODIFIED:20260421T224500Z
UID:10001047-1777401000-1777408200@chs-ca.org
SUMMARY:Introduccion Al Proyecto  Iniciativo De Cuidado Infantil (CCIP) Yuba City
DESCRIPTION:Unase a este taller informativo sobre el programa iniciativo de cuidado infantil (CCIP)\, incluyendo que es CCIP y sus objetivos.
URL:https://chs-ca.org/workshop/introduccion-al-proyecto-iniciativo-de-cuidado-infantil-ccip-yuba-city/
LOCATION:1429 Colusa Hwy\, Suite A\, Yuba City\, CA\, 1429 Colusa Highway\, #suite a\, Yuba City\, CA\, 95993\, United States
CATEGORIES:Long Beach,Orange,Providers,Woodland,Workshops,Yuba City
ATTACH;FMTTYPE=image/jpeg:https://chs-ca.org/wp-content/uploads/2026/01/21e80aa6f6ea2e47c04cb2a6fd362873-xznoXQ.tmp_.jpg
END:VEVENT
BEGIN:VEVENT
DTSTART;TZID=America/Los_Angeles:20260430T183000
DTEND;TZID=America/Los_Angeles:20260430T203000
DTSTAMP:20260422T112515
CREATED:20260414T232321Z
LAST-MODIFIED:20260421T223440Z
UID:10001179-1777573800-1777581000@chs-ca.org
SUMMARY:Participating in the R&R Database (Hybrid)
DESCRIPTION:Overview of the R&R database and documents needs to be referred out to families.\n\n\nTwo options to attend: \n1) Attend in person at the following location: 1100 Main Street. #280 Woodland\, CA 95695 \n  \n2) Attend via Zoom. The link will be sent the day before the training. Please do not share the zoom link you receive. \n  \nPlease visit our website to register for this workshop.
URL:https://chs-ca.org/workshop/participating-in-the-rr-database-hybrid/
LOCATION:Children’s Home Society of California\, 333 S Anita Dr Suite 350\, Orange\, CA\, 92868\, United States
CATEGORIES:Long Beach,Orange,Providers,Woodland,Workshops,Yuba City
ATTACH;FMTTYPE=image/png:https://chs-ca.org/wp-content/uploads/2026/04/cbe07ba2b5c92d55c8a091f05754f2b3-lQAMUH.tmp_.png
END:VEVENT
BEGIN:VEVENT
DTSTART;TZID=America/Los_Angeles:20260502T090000
DTEND;TZID=America/Los_Angeles:20260502T110000
DTSTAMP:20260422T112515
CREATED:20260408T195440Z
LAST-MODIFIED:20260421T223441Z
UID:10001173-1777712400-1777719600@chs-ca.org
SUMMARY:Summer Safety Tips for the Young Child - Yolo County
DESCRIPTION:In this in-person workshop we will explore different methods on how to create a safer environment for children during the summer.
URL:https://chs-ca.org/workshop/summer-safety-tips-for-the-young-child-yolo-county/
LOCATION:1100 Main Street\, Suite 280\, Woodland\, CA 95695\, 1100 Main Street\, Suite # 280\, Woodland\, CA\, 95695\, United States
CATEGORIES:Providers,Woodland,Workshops
ATTACH;FMTTYPE=image/png:https://chs-ca.org/wp-content/uploads/2026/04/89e2d371a739348a575370847b5f3372-aUs9Eh.tmp_.png
END:VEVENT
BEGIN:VEVENT
DTSTART;TZID=America/Los_Angeles:20260502T110000
DTEND;TZID=America/Los_Angeles:20260502T120000
DTSTAMP:20260422T112515
CREATED:20260421T223727Z
LAST-MODIFIED:20260421T223727Z
UID:10001199-1777719600-1777723200@chs-ca.org
SUMMARY:FFN Activity: Summer Field Trip Ideas  (Yolo County)
DESCRIPTION:Discuss the importance of field trips for children\, receive field trips ideas for summer\, and share additional ideas with your peers\n\n\nPlease note\, this workshop will follow afer the Summer Safety Tips for the Young Child workshop scheduled from 9:00 – 11:00 a.m. \n  \nYou are welcome to stay after the workshop for our open Lending Library hours from 12:00 – 2:00 p.m. \n 
URL:https://chs-ca.org/workshop/ffn-activity-summer-field-trip-ideas-yolo-county/
LOCATION:1100 Main Street\, Suite 280\, Woodland\, CA\, 1100 Main Street\, Suite 280\, Woodland\, CA\, 95695\, United States
CATEGORIES:Providers,Woodland,Workshops
ATTACH;FMTTYPE=image/png:https://chs-ca.org/wp-content/uploads/2026/04/facadb7627eedd91a711ca3546ecd4dd-y1E3pN.tmp_.png
END:VEVENT
BEGIN:VEVENT
DTSTART;TZID=America/Los_Angeles:20260506T180000
DTEND;TZID=America/Los_Angeles:20260506T200000
DTSTAMP:20260422T112515
CREATED:20260313T184155Z
LAST-MODIFIED:20260421T223438Z
UID:10001141-1778090400-1778097600@chs-ca.org
SUMMARY:Introduction to Trauma- Informed Care Series
DESCRIPTION:Child care providers are invited to join us for this free training presented by the Emergency Child Care Bridge Program.
URL:https://chs-ca.org/workshop/introduction-to-trauma-informed-care-series-3/
LOCATION:Online Event
CATEGORIES:Providers,Woodland,Workshops
ATTACH;FMTTYPE=image/png:https://chs-ca.org/wp-content/uploads/2026/03/028e32f42c4fafdfd86c1c05dbc170e3-FZRmX0.tmp_.png
END:VEVENT
BEGIN:VEVENT
DTSTART;TZID=America/Los_Angeles:20260513T180000
DTEND;TZID=America/Los_Angeles:20260513T200000
DTSTAMP:20260422T112515
CREATED:20260317T172346Z
LAST-MODIFIED:20260421T224455Z
UID:10001148-1778695200-1778702400@chs-ca.org
SUMMARY:Introducción a la serie sobre cuidado informado sobre el trauma
DESCRIPTION:Los proveedores de cuidado infantil están invitados a participar en este taller gratuito presentado por el Programa Bridge.
URL:https://chs-ca.org/workshop/introduccion-a-la-serie-sobre-cuidado-informado-sobre-el-trauma-5/
LOCATION:CA
CATEGORIES:Orange,Providers,Woodland,Workshops,Yuba City
ATTACH;FMTTYPE=image/png:https://chs-ca.org/wp-content/uploads/2026/03/714e68c0906f266c42ade1ad345c9d75-s0b8Ti.tmp_.png
END:VEVENT
BEGIN:VEVENT
DTSTART;TZID=America/Los_Angeles:20260516T090000
DTEND;TZID=America/Los_Angeles:20260516T110000
DTSTAMP:20260422T112515
CREATED:20260317T234655Z
LAST-MODIFIED:20260421T224504Z
UID:10001153-1778922000-1778929200@chs-ca.org
SUMMARY:The Nature Connections (Zoom Yuba & Sutter County)
DESCRIPTION:We invite you to join The Nature Connections Workshop hosted by Children’s Home Society of California\n\n\nThis Workshop is designed to show the value of connecting children to nature and simple ways to add nature play to your child care program. \nYou will receive a Zoom link 24 hours before the workshop.
URL:https://chs-ca.org/workshop/the-nature-connections-zoom-yuba-sutter-county/
LOCATION:CA
CATEGORIES:Families,Long Beach,Orange,Providers,Woodland,Workshops,Yuba City
ATTACH;FMTTYPE=image/jpeg:https://chs-ca.org/wp-content/uploads/2026/03/413cff051265210573edb94a090dc26b-FtDJG4.tmp_.jpg
END:VEVENT
BEGIN:VEVENT
DTSTART;TZID=America/Los_Angeles:20260523T090000
DTEND;TZID=America/Los_Angeles:20260523T110000
DTSTAMP:20260422T112515
CREATED:20260414T180824Z
LAST-MODIFIED:20260421T223445Z
UID:10001180-1779526800-1779534000@chs-ca.org
SUMMARY:Understanding Trauma- Informed Care Series
DESCRIPTION:Child care providers are invited to join us for this free training presented by the Emergency Child Care Bridge Program.
URL:https://chs-ca.org/workshop/understanding-trauma-informed-care-series-7/
LOCATION:CA
CATEGORIES:Orange,Providers,Woodland,Workshops,Yuba City
ATTACH;FMTTYPE=image/png:https://chs-ca.org/wp-content/uploads/2026/04/68779352f90516b437fcadc29eb78468-pbRkxS.tmp_.png
END:VEVENT
BEGIN:VEVENT
DTSTART;TZID=America/Los_Angeles:20260527T180000
DTEND;TZID=America/Los_Angeles:20260527T200000
DTSTAMP:20260422T112515
CREATED:20260415T224251Z
LAST-MODIFIED:20260421T224521Z
UID:10001187-1779904800-1779912000@chs-ca.org
SUMMARY:Comprensión del Cuidado Informado sobre el Trauma Serie
DESCRIPTION:Los proveedores de cuidado infantil están invitados a participar en este taller gratuito presentado por el Programa Bridge.
URL:https://chs-ca.org/workshop/comprension-del-cuidado-informado-sobre-el-trauma-serie-4/
LOCATION:CA
CATEGORIES:Orange,Providers,Woodland,Workshops,Yuba City
ATTACH;FMTTYPE=image/png:https://chs-ca.org/wp-content/uploads/2026/04/7a4ddc1002a3a6beb928ef3d9b0a1419-lK92eq.tmp_.png
END:VEVENT
BEGIN:VEVENT
DTSTART;TZID=America/Los_Angeles:20260528T183000
DTEND;TZID=America/Los_Angeles:20260528T203000
DTSTAMP:20260422T112515
CREATED:20260304T213722Z
LAST-MODIFIED:20260421T223449Z
UID:10001078-1779993000-1780000200@chs-ca.org
SUMMARY:Young Children Learning Through Positive Risk - 5/28/2026 & 5/30/2026 (YO)
DESCRIPTION:This workshop will be presented by Roberto Robles from WestEd.\n\n\nSelf-assess and explore risk perception through individual differences and global perspectives. Consider child benefits of risk in the development of their physical\, cognitive\, and social skills. Learn strategies to support children’s positive risk taking. \n  \nThis workshop is offered in-person only at the following location: 1100 Main Street\, Suite 280\, Woodland\, CA 95695 \nThis workshop is split into two sessions: \n1) 5/28/2026 from 6:30 – 8:30 p.m. \n2) 5/30/2026 from 9:00 a.m. – 12:00 p.m. \nYou will need to attend the first session on 5/28/2026 to be able to attend the session on 5/30/2026. \nIn order to receive all workshop information and full credit in the California Early Care & Education (ECE) Workforce Registry\, you need to attend both days.
URL:https://chs-ca.org/workshop/young-children-learning-through-positive-risk-5-28-2026-5-30-2026-yo/
LOCATION:CA
CATEGORIES:Providers,Woodland,Workshops
ATTACH;FMTTYPE=image/png:https://chs-ca.org/wp-content/uploads/2026/02/1672e9f8ca26fd09b1d252e8efdef87f-jC2zyQ.tmp_.png
END:VEVENT
BEGIN:VEVENT
DTSTART;TZID=America/Los_Angeles:20260603T180000
DTEND;TZID=America/Los_Angeles:20260603T200000
DTSTAMP:20260422T112515
CREATED:20260414T180919Z
LAST-MODIFIED:20260421T223446Z
UID:10001181-1780509600-1780516800@chs-ca.org
SUMMARY:Understanding Trauma- Informed Care Series
DESCRIPTION:Child care providers are invited to join us for this free training presented by the Emergency Child Care Bridge Program.
URL:https://chs-ca.org/workshop/understanding-trauma-informed-care-series-8/
LOCATION:CA
CATEGORIES:Orange,Providers,Woodland,Workshops,Yuba City
ATTACH;FMTTYPE=image/png:https://chs-ca.org/wp-content/uploads/2026/04/68779352f90516b437fcadc29eb78468-08x6QN.tmp_.png
END:VEVENT
BEGIN:VEVENT
DTSTART;TZID=America/Los_Angeles:20260610T180000
DTEND;TZID=America/Los_Angeles:20260610T200000
DTSTAMP:20260422T112515
CREATED:20260415T224350Z
LAST-MODIFIED:20260421T224522Z
UID:10001188-1781114400-1781121600@chs-ca.org
SUMMARY:Comprensión del Cuidado Informado sobre el Trauma Serie
DESCRIPTION:Los proveedores de cuidado infantil están invitados a participar en este taller gratuito presentado por el Programa Bridge.
URL:https://chs-ca.org/workshop/comprension-del-cuidado-informado-sobre-el-trauma-serie-5/
LOCATION:CA
CATEGORIES:Orange,Woodland,Workshops,Yuba City
ATTACH;FMTTYPE=image/png:https://chs-ca.org/wp-content/uploads/2026/04/7a4ddc1002a3a6beb928ef3d9b0a1419-M3vKVH.tmp_.png
END:VEVENT
BEGIN:VEVENT
DTSTART;TZID=America/Los_Angeles:20260620T090000
DTEND;TZID=America/Los_Angeles:20260620T110000
DTSTAMP:20260422T112515
CREATED:20260414T181120Z
LAST-MODIFIED:20260421T223448Z
UID:10001182-1781946000-1781953200@chs-ca.org
SUMMARY:Understanding Trauma- Informed Care Series
DESCRIPTION:Child care providers are invited to join us for this free training presented by the Emergency Child Care Bridge Program.
URL:https://chs-ca.org/workshop/understanding-trauma-informed-care-series-9/
LOCATION:CA
CATEGORIES:Orange,Providers,Woodland,Workshops,Yuba City
ATTACH;FMTTYPE=image/png:https://chs-ca.org/wp-content/uploads/2026/04/68779352f90516b437fcadc29eb78468-a6v7uj.tmp_.png
END:VEVENT
BEGIN:VEVENT
DTSTART;TZID=America/Los_Angeles:20260624T180000
DTEND;TZID=America/Los_Angeles:20260624T200000
DTSTAMP:20260422T112515
CREATED:20260415T224449Z
LAST-MODIFIED:20260421T224523Z
UID:10001189-1782324000-1782331200@chs-ca.org
SUMMARY:Comprensión del Cuidado Informado sobre el Trauma Serie
DESCRIPTION:Los proveedores de cuidado infantil están invitados a participar en este taller gratuito presentado por el Programa Bridge.
URL:https://chs-ca.org/workshop/comprension-del-cuidado-informado-sobre-el-trauma-serie-6/
LOCATION:CA
CATEGORIES:Orange,Providers,Woodland,Workshops,Yuba City
ATTACH;FMTTYPE=image/png:https://chs-ca.org/wp-content/uploads/2026/04/7a4ddc1002a3a6beb928ef3d9b0a1419-fspQyJ.tmp_.png
END:VEVENT
END:VCALENDAR