BEGIN:VCALENDAR
VERSION:2.0
PRODID:-//Children&#039;s Home Society of California - ECPv6.15.20//NONSGML v1.0//EN
CALSCALE:GREGORIAN
METHOD:PUBLISH
X-WR-CALNAME:Children&#039;s Home Society of California
X-ORIGINAL-URL:https://chs-ca.org
X-WR-CALDESC:Events for Children&#039;s Home Society of California
REFRESH-INTERVAL;VALUE=DURATION:PT1H
X-Robots-Tag:noindex
X-PUBLISHED-TTL:PT1H
BEGIN:VTIMEZONE
TZID:America/Los_Angeles
BEGIN:DAYLIGHT
TZOFFSETFROM:-0800
TZOFFSETTO:-0700
TZNAME:PDT
DTSTART:20250309T100000
END:DAYLIGHT
BEGIN:STANDARD
TZOFFSETFROM:-0700
TZOFFSETTO:-0800
TZNAME:PST
DTSTART:20251102T090000
END:STANDARD
BEGIN:DAYLIGHT
TZOFFSETFROM:-0800
TZOFFSETTO:-0700
TZNAME:PDT
DTSTART:20260308T100000
END:DAYLIGHT
BEGIN:STANDARD
TZOFFSETFROM:-0700
TZOFFSETTO:-0800
TZNAME:PST
DTSTART:20261101T090000
END:STANDARD
BEGIN:DAYLIGHT
TZOFFSETFROM:-0800
TZOFFSETTO:-0700
TZNAME:PDT
DTSTART:20270314T100000
END:DAYLIGHT
BEGIN:STANDARD
TZOFFSETFROM:-0700
TZOFFSETTO:-0800
TZNAME:PST
DTSTART:20271107T090000
END:STANDARD
END:VTIMEZONE
BEGIN:VEVENT
DTSTART;TZID=America/Los_Angeles:20260422T180000
DTEND;TZID=America/Los_Angeles:20260422T200000
DTSTAMP:20260422T155312
CREATED:20260317T172225Z
LAST-MODIFIED:20260421T224453Z
UID:10001147-1776880800-1776888000@chs-ca.org
SUMMARY:Introducción a la serie sobre cuidado informado sobre el trauma
DESCRIPTION:Los proveedores de cuidado infantil están invitados a participar en este taller gratuito presentado por el Programa Bridge.
URL:https://chs-ca.org/workshop/introduccion-a-la-serie-sobre-cuidado-informado-sobre-el-trauma-4/
LOCATION:CA
CATEGORIES:Orange,Providers,Woodland,Workshops,Yuba City
ATTACH;FMTTYPE=image/png:https://chs-ca.org/wp-content/uploads/2026/03/714e68c0906f266c42ade1ad345c9d75-s0b8Ti.tmp_.png
END:VEVENT
BEGIN:VEVENT
DTSTART;TZID=America/Los_Angeles:20260425T090000
DTEND;TZID=America/Los_Angeles:20260425T110000
DTSTAMP:20260422T155312
CREATED:20260310T171356Z
LAST-MODIFIED:20260421T224456Z
UID:10001133-1777107600-1777114800@chs-ca.org
SUMMARY:Transitions and Routines Workshop (In-Person Yuba & Sutter County)
DESCRIPTION:We invite you to join our in-person Transitions and Routines Workshop hosted by Children’s Home Society of California\n\n\nThis workshop is designed to teach parents and providers the importance of creating smooth transitions for children and the benefits of having a routine. During the duration of the workshop\, attendees will have the opportunity to understand and learn new tips to create routines in and out of the home. \n 
URL:https://chs-ca.org/workshop/transitions-and-routines-workshop-in-person-yuba-sutter-county/
LOCATION:1429 Colusa Hwy\, Suite A\, Yuba City\, CA\, 1429 Colusa Highway\, #suite a\, Yuba City\, CA\, 95993\, United States
CATEGORIES:Families,Providers,Workshops,Yuba City
ATTACH;FMTTYPE=image/jpeg:https://chs-ca.org/wp-content/uploads/2026/03/c2d028ab6400de7d98960914274eb395-s1Fvhy.tmp_.jpg
END:VEVENT
BEGIN:VEVENT
DTSTART;TZID=America/Los_Angeles:20260425T090000
DTEND;TZID=America/Los_Angeles:20260425T110000
DTSTAMP:20260422T155312
CREATED:20260331T181525Z
LAST-MODIFIED:20260422T194436Z
UID:10001164-1777107600-1777114800@chs-ca.org
SUMMARY:Parent Cafe: Tending Your Garden - Long Beach Only
DESCRIPTION:Parents will reflect and discuss a time when tending to your family became a struggle and create a network of support with other parents.\n\n\nLocation: In-person only \n4900 Airport Plaza Drive\, Suite 100 \nLong Beach\, CA 90815 \nChildren are welcome. We will have refreshments and activities set up.
URL:https://chs-ca.org/workshop/parent-cafe-tending-your-garden-long-beach-only/
LOCATION:4900 Airport Plaza Dr.\, Suite 100\, Long Beach\, CA 90815\, 4900 Airport Plaza Drive Suite 100\, Long Beach\, CA\, 90815\, United States
CATEGORIES:Families,Long Beach,Workshops
ATTACH;FMTTYPE=image/jpeg:https://chs-ca.org/wp-content/uploads/2026/03/2f7d7db16dd2021798521c264849ad49-Hmz71y.tmp_.jpg
END:VEVENT
BEGIN:VEVENT
DTSTART;TZID=America/Los_Angeles:20260425T110000
DTEND;TZID=America/Los_Angeles:20260425T120000
DTSTAMP:20260422T155312
CREATED:20260220T234006Z
LAST-MODIFIED:20260421T224457Z
UID:10001110-1777114800-1777118400@chs-ca.org
SUMMARY:Transitions and Routines: FFN Activity (In-Person Yuba & Sutter County)
DESCRIPTION:We invite you to join our in-person Transitions and Routines FFN Activity hosted by Children’s Home Society of California.\n\n\nThis FFN Activity is designed to show how effective and beneficial a daily routine can be. Participants will be able to understand how to create smooth transitions to create stability and boost independence. Attendees will be able to create their own visual routines to utilize in their homes or family child care homes.
URL:https://chs-ca.org/workshop/transitions-and-routines-ffn-activity-in-person-yuba-sutter-county/
LOCATION:1429 Colusa Hwy\, Suite A\, Yuba City\, CA\, 1429 Colusa Highway\, #suite a\, Yuba City\, CA\, 95993\, United States
CATEGORIES:Families,Providers,Workshops,Yuba City
ATTACH;FMTTYPE=image/jpeg:https://chs-ca.org/wp-content/uploads/2026/02/0c8af3b2fcd3df5c28f0e75a64a010e3-UdKrhC.tmp_.jpg
END:VEVENT
BEGIN:VEVENT
DTSTART;TZID=America/Los_Angeles:20260425T120000
DTEND;TZID=America/Los_Angeles:20260425T130000
DTSTAMP:20260422T155312
CREATED:20260407T190359Z
LAST-MODIFIED:20260421T224459Z
UID:10001169-1777118400-1777122000@chs-ca.org
SUMMARY:UPK Parent Focus Group Yuba & Sutter County (In-Person Event)
DESCRIPTION:Your insights and ideas are incredibly valuable\, and we would love to hear your perspective. Yuba & Sutter County (In-Person Event).\n\n\nYou’re invited to participate in an upcoming focus group designed specifically for families with young children. Your insights and ideas are incredibly valuable\, and we would love to hear your perspective. The discussion will help us better understand your needs\, experiences\, and priorities so we can continue improving child care offerings and supports in our local area. \nIn-Person Parent Focus Group Details: \nDate: April 25\, 2026 \nTime: 12:00 pm to 1:00 pm \nLocation: 1429 Colusa Hwy. Suite A\, Yuba City\, CA 95993 \nPlease note that child care is not available on-site. \n  \nParticipation is completely voluntary\, and we hope you will join us for this collaborative conversation. \n  \nWays to RSVP: Call our office at (530) 645-6298 or visit our website and register on Eventbrite \n  \nPlease do not hesitate to reach out with any questions. We look forward to connecting with you!
URL:https://chs-ca.org/workshop/upk-parent-focus-group-yuba-sutter-county-in-person-event-2/
LOCATION:1429 Colusa Hwy\, Suite A\, Yuba City\, CA\, 1429 Colusa Highway\, #suite a\, Yuba City\, CA\, 95993\, United States
CATEGORIES:Families,Workshops,Yuba City
ATTACH;FMTTYPE=image/jpeg:https://chs-ca.org/wp-content/uploads/2026/04/fcded8935fa59809a98e25a75bdc9706-EXWaXl.tmp_.jpg
END:VEVENT
BEGIN:VEVENT
DTSTART;TZID=America/Los_Angeles:20260427T090000
DTEND;TZID=America/Los_Angeles:20260430T150000
DTSTAMP:20260422T155312
CREATED:20260421T172048Z
LAST-MODIFIED:20260421T172048Z
UID:10001197-1777280400-1777561200@chs-ca.org
SUMMARY:Enrollment Event - Sutter and Yuba Counties
DESCRIPTION:Attention families seeking child care in Sutter or Yuba Counties\, Children’s Home Society of California is pleased to share that we are now enrolling income-eligible families. If you believe your family is income eligible and you are interested in receiving free or low cost child care\, please attend this enrollment event. \nPlease bring the following documentation for yourself (and a secondary parent residing in the household\, if applicable) in order for CHS staff to determine your eligibility for child care services: \n\nFour full weeks of income from March or April 2026 (including check stubs\, child support\, etc.) (per parent)\nIf one or both parents attend school/training\, bring an electronic print-out of the class schedule for all classes\nChild(ren)’s birth records (e.g.\, birth certificate or other reliable documentation indicating the relationship of the child to the parent)\nSchool-aged child(ren)’s school bell schedule(s)\nImmunization records for all children under the age of 5\nChild care provider information (name\, address\, and phone number) — You may select a license-exempt (friend\, family\, neighbor)\, licensed family child care home\, licensed or license-exempt center to care for your child
URL:https://chs-ca.org/workshop/enrollment-event-sutter-and-yuba-counties/
LOCATION:1650 Sierra Avenue\, Suite 102 Yuba City\, CA 95993\, CA\, United States
CATEGORIES:Families,Workshops,Yuba City
ATTACH;FMTTYPE=image/jpeg:https://chs-ca.org/wp-content/uploads/2026/04/ENG.jpg
END:VEVENT
BEGIN:VEVENT
DTSTART;TZID=America/Los_Angeles:20260428T183000
DTEND;TZID=America/Los_Angeles:20260428T203000
DTSTAMP:20260422T155312
CREATED:20260113T192555Z
LAST-MODIFIED:20260421T224500Z
UID:10001047-1777401000-1777408200@chs-ca.org
SUMMARY:Introduccion Al Proyecto  Iniciativo De Cuidado Infantil (CCIP) Yuba City
DESCRIPTION:Unase a este taller informativo sobre el programa iniciativo de cuidado infantil (CCIP)\, incluyendo que es CCIP y sus objetivos.
URL:https://chs-ca.org/workshop/introduccion-al-proyecto-iniciativo-de-cuidado-infantil-ccip-yuba-city/
LOCATION:1429 Colusa Hwy\, Suite A\, Yuba City\, CA\, 1429 Colusa Highway\, #suite a\, Yuba City\, CA\, 95993\, United States
CATEGORIES:Long Beach,Orange,Providers,Woodland,Workshops,Yuba City
ATTACH;FMTTYPE=image/jpeg:https://chs-ca.org/wp-content/uploads/2026/01/21e80aa6f6ea2e47c04cb2a6fd362873-xznoXQ.tmp_.jpg
END:VEVENT
BEGIN:VEVENT
DTSTART;TZID=America/Los_Angeles:20260430T183000
DTEND;TZID=America/Los_Angeles:20260430T203000
DTSTAMP:20260422T155312
CREATED:20260414T232321Z
LAST-MODIFIED:20260422T224440Z
UID:10001179-1777573800-1777581000@chs-ca.org
SUMMARY:Participating in the R&R Database (Hybrid)
DESCRIPTION:Overview of the R&R database and documents needs to be referred out to families.\n\n\nTwo options to attend: \n1) Attend in person at the following location: 1100 Main Street. #280 Woodland\, CA 95695 \n  \n2) Attend via Zoom. The link will be sent the day before the training. Please do not share the zoom link you receive. \n  \nPlease visit our website to register for this workshop.
URL:https://chs-ca.org/workshop/participating-in-the-rr-database-hybrid/
LOCATION:Children’s Home Society of California\, 333 S Anita Dr Suite 350\, Orange\, CA\, 92868\, United States
CATEGORIES:Long Beach,Orange,Providers,Woodland,Workshops,Yuba City
ATTACH;FMTTYPE=image/png:https://chs-ca.org/wp-content/uploads/2026/04/cbe07ba2b5c92d55c8a091f05754f2b3-lQAMUH.tmp_.png
END:VEVENT
END:VCALENDAR